BEGIN:VCALENDAR
VERSION:2.0
PRODID:-//Kallaroo Anglican Church - ECPv5.0.2//NONSGML v1.0//EN
CALSCALE:GREGORIAN
METHOD:PUBLISH
X-WR-CALNAME:Kallaroo Anglican Church
X-ORIGINAL-URL:https://www.kallaroochurch.org.au
X-WR-CALDESC:Events for Kallaroo Anglican Church
BEGIN:VTIMEZONE
TZID:Australia/Perth
BEGIN:STANDARD
TZOFFSETFROM:+0800
TZOFFSETTO:+0800
TZNAME:AWST
DTSTART:20200101T000000
END:STANDARD
END:VTIMEZONE
BEGIN:VEVENT
DTSTART;TZID=Australia/Perth:20200313T170000
DTEND;TZID=Australia/Perth:20200313T183000
DTSTAMP:20200302T075358
CREATED:20190205T091354Z
LAST-MODIFIED:20191220T075411Z
UID:9307-1584118800-1584124200@www.kallaroochurch.org.au
SUMMARY:SALT
DESCRIPTION: \nSALT is a youth group for middle school young people and meets on Fridays at the church from 5 – 6.30pm during school term. \nPlease remember to bring $2 each week so we can provide some delicious supper! \nIf you have any questions re: SALT\, please don’t hesitate to contact the leaders! \n\nGordon Killow\nRiley Law-Davis\n\n
URL:https://www.kallaroochurch.org.au/event/salt-2020-03-13/
LOCATION:Kallaroo Anglican Church\, 1 Aristride Avenue\, Kallaroo\, WA\, 6025\, Australia
CATEGORIES:General,Youth Programs
ATTACH;FMTTYPE=image/jpeg:https://www.kallaroochurch.org.au/wp-content/uploads/SALT.jpg
ORGANIZER;CN="Gordon%20Killow":MAILTO:kallaroo@kallaroochurch.org.au
END:VEVENT
END:VCALENDAR