BEGIN:VCALENDAR
VERSION:2.0
PRODID:-//Kallaroo Anglican Church - ECPv5.0.2//NONSGML v1.0//EN
CALSCALE:GREGORIAN
METHOD:PUBLISH
X-WR-CALNAME:Kallaroo Anglican Church
X-ORIGINAL-URL:https://www.kallaroochurch.org.au
X-WR-CALDESC:Events for Kallaroo Anglican Church
BEGIN:VTIMEZONE
TZID:Australia/Perth
BEGIN:STANDARD
TZOFFSETFROM:+0800
TZOFFSETTO:+0800
TZNAME:AWST
DTSTART:20200101T000000
END:STANDARD
END:VTIMEZONE
BEGIN:VEVENT
DTSTART;TZID=Australia/Perth:20200308T090000
DTEND;TZID=Australia/Perth:20200308T103000
DTSTAMP:20200302T074448
CREATED:20181128T025730Z
LAST-MODIFIED:20191220T235526Z
UID:8838-1583658000-1583663400@www.kallaroochurch.org.au
SUMMARY:9am Service
DESCRIPTION:We have two main meetings on Sundays… \n9am and 5pm \n… both with a creche and Sunday school running concurrently. \nBoth services have time to talk over tea and coffee afterwards\, or check out some great Christian books on our bookstall. \n
URL:https://www.kallaroochurch.org.au/event/9am-service-2-2020-03-08/
LOCATION:Kallaroo Anglican Church\, 1 Aristride Avenue\, Kallaroo\, WA\, 6025\, Australia
CATEGORIES:Community,General
ORGANIZER;CN="Church%20Office":MAILTO:kallaroo@kallaroochurch.org.au
END:VEVENT
BEGIN:VEVENT
DTSTART;TZID=Australia/Perth:20200308T170000
DTEND;TZID=Australia/Perth:20200308T183000
DTSTAMP:20200302T074448
CREATED:20181128T030056Z
LAST-MODIFIED:20191220T235410Z
UID:8837-1583686800-1583692200@www.kallaroochurch.org.au
SUMMARY:5pm Service
DESCRIPTION:We have two main meetings on Sundays… \n9am and 5pm \n… both with a creche and Sunday school running concurrently. \nBoth services have time to talk over tea and coffee afterwards\, or check out some great Christian books on our bookstall. \n
URL:https://www.kallaroochurch.org.au/event/5pm-service-2020-03-08/
LOCATION:Kallaroo Anglican Church\, 1 Aristride Avenue\, Kallaroo\, WA\, 6025\, Australia
CATEGORIES:Community,General
ORGANIZER;CN="Church%20Office":MAILTO:kallaroo@kallaroochurch.org.au
END:VEVENT
END:VCALENDAR