BEGIN:VCALENDAR
VERSION:2.0
PRODID:-//Kallaroo Anglican Church - ECPv5.0.2//NONSGML v1.0//EN
CALSCALE:GREGORIAN
METHOD:PUBLISH
X-WR-CALNAME:Kallaroo Anglican Church
X-ORIGINAL-URL:https://www.kallaroochurch.org.au
X-WR-CALDESC:Events for Kallaroo Anglican Church
BEGIN:VTIMEZONE
TZID:Australia/Perth
BEGIN:STANDARD
TZOFFSETFROM:+0800
TZOFFSETTO:+0800
TZNAME:AWST
DTSTART:20200101T000000
END:STANDARD
END:VTIMEZONE
BEGIN:VEVENT
DTSTART;TZID=Australia/Perth:20200307T083000
DTEND;TZID=Australia/Perth:20200307T093000
DTSTAMP:20200302T074121
CREATED:20180927T125213Z
LAST-MODIFIED:20191226T163157Z
UID:9764-1583569800-1583573400@www.kallaroochurch.org.au
SUMMARY:Ladies Coffee
DESCRIPTION:Ladies\, meet at the Social Cafe\, Hillary’s Boat Harbour\, for coffee/breakfast and a chat. First Saturday of every month. \nAll ladies welcome! \n
URL:https://www.kallaroochurch.org.au/event/ladies-coffee-2-2020-03-07/
LOCATION:The Social Cafe\, Hillarys Boat Harbour\, Sorrento Quay\, Shop 57\, 28 Southside Drive\, Hillarys\, WA\, 6025\, Australia
CATEGORIES:For the women,Special Events
ATTACH;FMTTYPE=image/jpeg:https://www.kallaroochurch.org.au/wp-content/uploads/tea.jpg
ORGANIZER;CN="Sarah%20Bullard":MAILTO:sbullard@iinet.net.au
END:VEVENT
END:VCALENDAR